BEGIN:VCALENDAR
VERSION:2.0
PRODID:-//First Baptist Church of Buda - ECPv6.15.20//NONSGML v1.0//EN
CALSCALE:GREGORIAN
METHOD:PUBLISH
X-WR-CALNAME:First Baptist Church of Buda
X-ORIGINAL-URL:https://www.firstbaptistbuda.com
X-WR-CALDESC:Events for First Baptist Church of Buda
REFRESH-INTERVAL;VALUE=DURATION:PT1H
X-Robots-Tag:noindex
X-PUBLISHED-TTL:PT1H
BEGIN:VTIMEZONE
TZID:America/Chicago
BEGIN:DAYLIGHT
TZOFFSETFROM:-0600
TZOFFSETTO:-0500
TZNAME:CDT
DTSTART:20250309T080000
END:DAYLIGHT
BEGIN:STANDARD
TZOFFSETFROM:-0500
TZOFFSETTO:-0600
TZNAME:CST
DTSTART:20251102T070000
END:STANDARD
BEGIN:DAYLIGHT
TZOFFSETFROM:-0600
TZOFFSETTO:-0500
TZNAME:CDT
DTSTART:20260308T080000
END:DAYLIGHT
BEGIN:STANDARD
TZOFFSETFROM:-0500
TZOFFSETTO:-0600
TZNAME:CST
DTSTART:20261101T070000
END:STANDARD
BEGIN:DAYLIGHT
TZOFFSETFROM:-0600
TZOFFSETTO:-0500
TZNAME:CDT
DTSTART:20270314T080000
END:DAYLIGHT
BEGIN:STANDARD
TZOFFSETFROM:-0500
TZOFFSETTO:-0600
TZNAME:CST
DTSTART:20271107T070000
END:STANDARD
END:VTIMEZONE
BEGIN:VEVENT
DTSTART;TZID=America/Chicago:20260621T104500
DTEND;TZID=America/Chicago:20260621T114500
DTSTAMP:20260422T200035
CREATED:20250219T175218Z
LAST-MODIFIED:20250219T175218Z
UID:10004155-1782038700-1782042300@www.firstbaptistbuda.com
SUMMARY:Worship and Sermon Service
DESCRIPTION:
URL:https://www.firstbaptistbuda.com/event/worship-and-sermon-service/2026-06-21/
LOCATION:FBC Buda\, 104 S. San Marcos St.\, Buda\, TX\, 78610\, United States
END:VEVENT
BEGIN:VEVENT
DTSTART;TZID=America/Chicago:20260624T180000
DTEND;TZID=America/Chicago:20260624T183000
DTSTAMP:20260422T200035
CREATED:20250219T175558Z
LAST-MODIFIED:20251117T161843Z
UID:10004417-1782324000-1782325800@www.firstbaptistbuda.com
SUMMARY:Prayer Meeting
DESCRIPTION:
URL:https://www.firstbaptistbuda.com/event/prayer-meeting/2026-06-24/
LOCATION:FBC Buda\, 104 S. San Marcos St.\, Buda\, TX\, 78610\, United States
END:VEVENT
BEGIN:VEVENT
DTSTART;TZID=America/Chicago:20260624T180000
DTEND;TZID=America/Chicago:20260624T193000
DTSTAMP:20260422T200035
CREATED:20250219T175721Z
LAST-MODIFIED:20251117T161912Z
UID:10004939-1782324000-1782329400@www.firstbaptistbuda.com
SUMMARY:Youth Bible Study
DESCRIPTION:
URL:https://www.firstbaptistbuda.com/event/youth-bible-study/2026-06-24/
LOCATION:FBC Buda\, 104 S. San Marcos St.\, Buda\, TX\, 78610\, United States
END:VEVENT
BEGIN:VEVENT
DTSTART;TZID=America/Chicago:20260624T180000
DTEND;TZID=America/Chicago:20260624T193000
DTSTAMP:20260422T200035
CREATED:20250219T175811Z
LAST-MODIFIED:20251117T161943Z
UID:10005200-1782324000-1782329400@www.firstbaptistbuda.com
SUMMARY:AWANA
DESCRIPTION:
URL:https://www.firstbaptistbuda.com/event/awana/2026-06-24/
LOCATION:FBC Buda\, 104 S. San Marcos St.\, Buda\, TX\, 78610\, United States
END:VEVENT
BEGIN:VEVENT
DTSTART;TZID=America/Chicago:20260624T183000
DTEND;TZID=America/Chicago:20260624T193000
DTSTAMP:20260422T200035
CREATED:20250219T175643Z
LAST-MODIFIED:20251117T162012Z
UID:10004678-1782325800-1782329400@www.firstbaptistbuda.com
SUMMARY:Adult Bible Studay
DESCRIPTION:
URL:https://www.firstbaptistbuda.com/event/adult-bible-studay/2026-06-24/
LOCATION:FBC Buda\, 104 S. San Marcos St.\, Buda\, TX\, 78610\, United States
END:VEVENT
BEGIN:VEVENT
DTSTART;TZID=America/Chicago:20260624T193000
DTEND;TZID=America/Chicago:20260624T203000
DTSTAMP:20260422T200035
CREATED:20250219T175846Z
LAST-MODIFIED:20251117T162041Z
UID:10005461-1782329400-1782333000@www.firstbaptistbuda.com
SUMMARY:Choir Practice
DESCRIPTION:
URL:https://www.firstbaptistbuda.com/event/choir-practice/2026-06-24/
LOCATION:FBC Buda\, 104 S. San Marcos St.\, Buda\, TX\, 78610\, United States
END:VEVENT
BEGIN:VEVENT
DTSTART;TZID=America/Chicago:20260628T093000
DTEND;TZID=America/Chicago:20260628T103000
DTSTAMP:20260422T200035
CREATED:20250219T174938Z
LAST-MODIFIED:20250219T174938Z
UID:10003895-1782639000-1782642600@www.firstbaptistbuda.com
SUMMARY:Sunday School
DESCRIPTION:
URL:https://www.firstbaptistbuda.com/event/sunday-school/2026-06-28/
LOCATION:FBC Buda\, 104 S. San Marcos St.\, Buda\, TX\, 78610\, United States
END:VEVENT
BEGIN:VEVENT
DTSTART;TZID=America/Chicago:20260628T104500
DTEND;TZID=America/Chicago:20260628T114500
DTSTAMP:20260422T200035
CREATED:20250219T175218Z
LAST-MODIFIED:20250219T175218Z
UID:10004156-1782643500-1782647100@www.firstbaptistbuda.com
SUMMARY:Worship and Sermon Service
DESCRIPTION:
URL:https://www.firstbaptistbuda.com/event/worship-and-sermon-service/2026-06-28/
LOCATION:FBC Buda\, 104 S. San Marcos St.\, Buda\, TX\, 78610\, United States
END:VEVENT
BEGIN:VEVENT
DTSTART;TZID=America/Chicago:20260701T180000
DTEND;TZID=America/Chicago:20260701T183000
DTSTAMP:20260422T200035
CREATED:20250219T175558Z
LAST-MODIFIED:20251117T161843Z
UID:10004418-1782928800-1782930600@www.firstbaptistbuda.com
SUMMARY:Prayer Meeting
DESCRIPTION:
URL:https://www.firstbaptistbuda.com/event/prayer-meeting/2026-07-01/
LOCATION:FBC Buda\, 104 S. San Marcos St.\, Buda\, TX\, 78610\, United States
END:VEVENT
BEGIN:VEVENT
DTSTART;TZID=America/Chicago:20260701T180000
DTEND;TZID=America/Chicago:20260701T193000
DTSTAMP:20260422T200035
CREATED:20250219T175721Z
LAST-MODIFIED:20251117T161912Z
UID:10004940-1782928800-1782934200@www.firstbaptistbuda.com
SUMMARY:Youth Bible Study
DESCRIPTION:
URL:https://www.firstbaptistbuda.com/event/youth-bible-study/2026-07-01/
LOCATION:FBC Buda\, 104 S. San Marcos St.\, Buda\, TX\, 78610\, United States
END:VEVENT
BEGIN:VEVENT
DTSTART;TZID=America/Chicago:20260701T180000
DTEND;TZID=America/Chicago:20260701T193000
DTSTAMP:20260422T200035
CREATED:20250219T175811Z
LAST-MODIFIED:20251117T161943Z
UID:10005201-1782928800-1782934200@www.firstbaptistbuda.com
SUMMARY:AWANA
DESCRIPTION:
URL:https://www.firstbaptistbuda.com/event/awana/2026-07-01/
LOCATION:FBC Buda\, 104 S. San Marcos St.\, Buda\, TX\, 78610\, United States
END:VEVENT
BEGIN:VEVENT
DTSTART;TZID=America/Chicago:20260701T183000
DTEND;TZID=America/Chicago:20260701T193000
DTSTAMP:20260422T200035
CREATED:20250219T175643Z
LAST-MODIFIED:20251117T162012Z
UID:10004679-1782930600-1782934200@www.firstbaptistbuda.com
SUMMARY:Adult Bible Studay
DESCRIPTION:
URL:https://www.firstbaptistbuda.com/event/adult-bible-studay/2026-07-01/
LOCATION:FBC Buda\, 104 S. San Marcos St.\, Buda\, TX\, 78610\, United States
END:VEVENT
BEGIN:VEVENT
DTSTART;TZID=America/Chicago:20260701T193000
DTEND;TZID=America/Chicago:20260701T203000
DTSTAMP:20260422T200035
CREATED:20250219T175846Z
LAST-MODIFIED:20251117T162041Z
UID:10005462-1782934200-1782937800@www.firstbaptistbuda.com
SUMMARY:Choir Practice
DESCRIPTION:
URL:https://www.firstbaptistbuda.com/event/choir-practice/2026-07-01/
LOCATION:FBC Buda\, 104 S. San Marcos St.\, Buda\, TX\, 78610\, United States
END:VEVENT
BEGIN:VEVENT
DTSTART;TZID=America/Chicago:20260704T080000
DTEND;TZID=America/Chicago:20260704T090000
DTSTAMP:20260422T200035
CREATED:20250219T180604Z
LAST-MODIFIED:20250219T180604Z
UID:10005668-1783152000-1783155600@www.firstbaptistbuda.com
SUMMARY:Men's Prayer Breakfast
DESCRIPTION:
URL:https://www.firstbaptistbuda.com/event/mens-prayer-breakfast/2026-07-04/
LOCATION:FBC Buda\, 104 S. San Marcos St.\, Buda\, TX\, 78610\, United States
END:VEVENT
BEGIN:VEVENT
DTSTART;TZID=America/Chicago:20260705T093000
DTEND;TZID=America/Chicago:20260705T103000
DTSTAMP:20260422T200035
CREATED:20250219T174938Z
LAST-MODIFIED:20250219T174938Z
UID:10003896-1783243800-1783247400@www.firstbaptistbuda.com
SUMMARY:Sunday School
DESCRIPTION:
URL:https://www.firstbaptistbuda.com/event/sunday-school/2026-07-05/
LOCATION:FBC Buda\, 104 S. San Marcos St.\, Buda\, TX\, 78610\, United States
END:VEVENT
BEGIN:VEVENT
DTSTART;TZID=America/Chicago:20260705T104500
DTEND;TZID=America/Chicago:20260705T114500
DTSTAMP:20260422T200035
CREATED:20250219T175218Z
LAST-MODIFIED:20250219T175218Z
UID:10004157-1783248300-1783251900@www.firstbaptistbuda.com
SUMMARY:Worship and Sermon Service
DESCRIPTION:
URL:https://www.firstbaptistbuda.com/event/worship-and-sermon-service/2026-07-05/
LOCATION:FBC Buda\, 104 S. San Marcos St.\, Buda\, TX\, 78610\, United States
END:VEVENT
BEGIN:VEVENT
DTSTART;TZID=America/Chicago:20260708T180000
DTEND;TZID=America/Chicago:20260708T183000
DTSTAMP:20260422T200035
CREATED:20250219T175558Z
LAST-MODIFIED:20251117T161843Z
UID:10004419-1783533600-1783535400@www.firstbaptistbuda.com
SUMMARY:Prayer Meeting
DESCRIPTION:
URL:https://www.firstbaptistbuda.com/event/prayer-meeting/2026-07-08/
LOCATION:FBC Buda\, 104 S. San Marcos St.\, Buda\, TX\, 78610\, United States
END:VEVENT
BEGIN:VEVENT
DTSTART;TZID=America/Chicago:20260708T180000
DTEND;TZID=America/Chicago:20260708T193000
DTSTAMP:20260422T200035
CREATED:20250219T175721Z
LAST-MODIFIED:20251117T161912Z
UID:10004941-1783533600-1783539000@www.firstbaptistbuda.com
SUMMARY:Youth Bible Study
DESCRIPTION:
URL:https://www.firstbaptistbuda.com/event/youth-bible-study/2026-07-08/
LOCATION:FBC Buda\, 104 S. San Marcos St.\, Buda\, TX\, 78610\, United States
END:VEVENT
BEGIN:VEVENT
DTSTART;TZID=America/Chicago:20260708T180000
DTEND;TZID=America/Chicago:20260708T193000
DTSTAMP:20260422T200035
CREATED:20250219T175811Z
LAST-MODIFIED:20251117T161943Z
UID:10005202-1783533600-1783539000@www.firstbaptistbuda.com
SUMMARY:AWANA
DESCRIPTION:
URL:https://www.firstbaptistbuda.com/event/awana/2026-07-08/
LOCATION:FBC Buda\, 104 S. San Marcos St.\, Buda\, TX\, 78610\, United States
END:VEVENT
BEGIN:VEVENT
DTSTART;TZID=America/Chicago:20260708T183000
DTEND;TZID=America/Chicago:20260708T193000
DTSTAMP:20260422T200035
CREATED:20250219T175643Z
LAST-MODIFIED:20251117T162012Z
UID:10004680-1783535400-1783539000@www.firstbaptistbuda.com
SUMMARY:Adult Bible Studay
DESCRIPTION:
URL:https://www.firstbaptistbuda.com/event/adult-bible-studay/2026-07-08/
LOCATION:FBC Buda\, 104 S. San Marcos St.\, Buda\, TX\, 78610\, United States
END:VEVENT
BEGIN:VEVENT
DTSTART;TZID=America/Chicago:20260708T193000
DTEND;TZID=America/Chicago:20260708T203000
DTSTAMP:20260422T200035
CREATED:20250219T175846Z
LAST-MODIFIED:20251117T162041Z
UID:10005463-1783539000-1783542600@www.firstbaptistbuda.com
SUMMARY:Choir Practice
DESCRIPTION:
URL:https://www.firstbaptistbuda.com/event/choir-practice/2026-07-08/
LOCATION:FBC Buda\, 104 S. San Marcos St.\, Buda\, TX\, 78610\, United States
END:VEVENT
BEGIN:VEVENT
DTSTART;TZID=America/Chicago:20260712T093000
DTEND;TZID=America/Chicago:20260712T103000
DTSTAMP:20260422T200035
CREATED:20250219T174938Z
LAST-MODIFIED:20250219T174938Z
UID:10003897-1783848600-1783852200@www.firstbaptistbuda.com
SUMMARY:Sunday School
DESCRIPTION:
URL:https://www.firstbaptistbuda.com/event/sunday-school/2026-07-12/
LOCATION:FBC Buda\, 104 S. San Marcos St.\, Buda\, TX\, 78610\, United States
END:VEVENT
BEGIN:VEVENT
DTSTART;TZID=America/Chicago:20260712T104500
DTEND;TZID=America/Chicago:20260712T114500
DTSTAMP:20260422T200035
CREATED:20250219T175218Z
LAST-MODIFIED:20250219T175218Z
UID:10004158-1783853100-1783856700@www.firstbaptistbuda.com
SUMMARY:Worship and Sermon Service
DESCRIPTION:
URL:https://www.firstbaptistbuda.com/event/worship-and-sermon-service/2026-07-12/
LOCATION:FBC Buda\, 104 S. San Marcos St.\, Buda\, TX\, 78610\, United States
END:VEVENT
BEGIN:VEVENT
DTSTART;TZID=America/Chicago:20260715T180000
DTEND;TZID=America/Chicago:20260715T183000
DTSTAMP:20260422T200035
CREATED:20250219T175558Z
LAST-MODIFIED:20251117T161843Z
UID:10004420-1784138400-1784140200@www.firstbaptistbuda.com
SUMMARY:Prayer Meeting
DESCRIPTION:
URL:https://www.firstbaptistbuda.com/event/prayer-meeting/2026-07-15/
LOCATION:FBC Buda\, 104 S. San Marcos St.\, Buda\, TX\, 78610\, United States
END:VEVENT
BEGIN:VEVENT
DTSTART;TZID=America/Chicago:20260715T180000
DTEND;TZID=America/Chicago:20260715T193000
DTSTAMP:20260422T200035
CREATED:20250219T175721Z
LAST-MODIFIED:20251117T161912Z
UID:10004942-1784138400-1784143800@www.firstbaptistbuda.com
SUMMARY:Youth Bible Study
DESCRIPTION:
URL:https://www.firstbaptistbuda.com/event/youth-bible-study/2026-07-15/
LOCATION:FBC Buda\, 104 S. San Marcos St.\, Buda\, TX\, 78610\, United States
END:VEVENT
BEGIN:VEVENT
DTSTART;TZID=America/Chicago:20260715T180000
DTEND;TZID=America/Chicago:20260715T193000
DTSTAMP:20260422T200035
CREATED:20250219T175811Z
LAST-MODIFIED:20251117T161943Z
UID:10005203-1784138400-1784143800@www.firstbaptistbuda.com
SUMMARY:AWANA
DESCRIPTION:
URL:https://www.firstbaptistbuda.com/event/awana/2026-07-15/
LOCATION:FBC Buda\, 104 S. San Marcos St.\, Buda\, TX\, 78610\, United States
END:VEVENT
BEGIN:VEVENT
DTSTART;TZID=America/Chicago:20260715T183000
DTEND;TZID=America/Chicago:20260715T193000
DTSTAMP:20260422T200035
CREATED:20250219T175643Z
LAST-MODIFIED:20251117T162012Z
UID:10004681-1784140200-1784143800@www.firstbaptistbuda.com
SUMMARY:Adult Bible Studay
DESCRIPTION:
URL:https://www.firstbaptistbuda.com/event/adult-bible-studay/2026-07-15/
LOCATION:FBC Buda\, 104 S. San Marcos St.\, Buda\, TX\, 78610\, United States
END:VEVENT
BEGIN:VEVENT
DTSTART;TZID=America/Chicago:20260715T193000
DTEND;TZID=America/Chicago:20260715T203000
DTSTAMP:20260422T200035
CREATED:20250219T175846Z
LAST-MODIFIED:20251117T162041Z
UID:10005464-1784143800-1784147400@www.firstbaptistbuda.com
SUMMARY:Choir Practice
DESCRIPTION:
URL:https://www.firstbaptistbuda.com/event/choir-practice/2026-07-15/
LOCATION:FBC Buda\, 104 S. San Marcos St.\, Buda\, TX\, 78610\, United States
END:VEVENT
BEGIN:VEVENT
DTSTART;TZID=America/Chicago:20260719T093000
DTEND;TZID=America/Chicago:20260719T103000
DTSTAMP:20260422T200035
CREATED:20250219T174938Z
LAST-MODIFIED:20250219T174938Z
UID:10003898-1784453400-1784457000@www.firstbaptistbuda.com
SUMMARY:Sunday School
DESCRIPTION:
URL:https://www.firstbaptistbuda.com/event/sunday-school/2026-07-19/
LOCATION:FBC Buda\, 104 S. San Marcos St.\, Buda\, TX\, 78610\, United States
END:VEVENT
BEGIN:VEVENT
DTSTART;TZID=America/Chicago:20260719T104500
DTEND;TZID=America/Chicago:20260719T114500
DTSTAMP:20260422T200035
CREATED:20250219T175218Z
LAST-MODIFIED:20250219T175218Z
UID:10004159-1784457900-1784461500@www.firstbaptistbuda.com
SUMMARY:Worship and Sermon Service
DESCRIPTION:
URL:https://www.firstbaptistbuda.com/event/worship-and-sermon-service/2026-07-19/
LOCATION:FBC Buda\, 104 S. San Marcos St.\, Buda\, TX\, 78610\, United States
END:VEVENT
END:VCALENDAR