BEGIN:VCALENDAR
VERSION:2.0
PRODID:-//First Baptist Church of Buda - ECPv6.15.20//NONSGML v1.0//EN
CALSCALE:GREGORIAN
METHOD:PUBLISH
X-ORIGINAL-URL:https://www.firstbaptistbuda.com
X-WR-CALDESC:Events for First Baptist Church of Buda
REFRESH-INTERVAL;VALUE=DURATION:PT1H
X-Robots-Tag:noindex
X-PUBLISHED-TTL:PT1H
BEGIN:VTIMEZONE
TZID:America/Chicago
BEGIN:DAYLIGHT
TZOFFSETFROM:-0600
TZOFFSETTO:-0500
TZNAME:CDT
DTSTART:20250309T080000
END:DAYLIGHT
BEGIN:STANDARD
TZOFFSETFROM:-0500
TZOFFSETTO:-0600
TZNAME:CST
DTSTART:20251102T070000
END:STANDARD
BEGIN:DAYLIGHT
TZOFFSETFROM:-0600
TZOFFSETTO:-0500
TZNAME:CDT
DTSTART:20260308T080000
END:DAYLIGHT
BEGIN:STANDARD
TZOFFSETFROM:-0500
TZOFFSETTO:-0600
TZNAME:CST
DTSTART:20261101T070000
END:STANDARD
BEGIN:DAYLIGHT
TZOFFSETFROM:-0600
TZOFFSETTO:-0500
TZNAME:CDT
DTSTART:20270314T080000
END:DAYLIGHT
BEGIN:STANDARD
TZOFFSETFROM:-0500
TZOFFSETTO:-0600
TZNAME:CST
DTSTART:20271107T070000
END:STANDARD
END:VTIMEZONE
BEGIN:VEVENT
DTSTART;TZID=America/Chicago:20261028T180000
DTEND;TZID=America/Chicago:20261028T183000
DTSTAMP:20260423T152658
CREATED:20250219T175558Z
LAST-MODIFIED:20251117T161843Z
UID:10004435-1793210400-1793212200@www.firstbaptistbuda.com
SUMMARY:Prayer Meeting
DESCRIPTION:
URL:https://www.firstbaptistbuda.com/event/prayer-meeting/2026-10-28/
LOCATION:FBC Buda\, 104 S. San Marcos St.\, Buda\, TX\, 78610\, United States
END:VEVENT
BEGIN:VEVENT
DTSTART;TZID=America/Chicago:20261028T180000
DTEND;TZID=America/Chicago:20261028T193000
DTSTAMP:20260423T152658
CREATED:20250219T175721Z
LAST-MODIFIED:20251117T161912Z
UID:10004957-1793210400-1793215800@www.firstbaptistbuda.com
SUMMARY:Youth Bible Study
DESCRIPTION:
URL:https://www.firstbaptistbuda.com/event/youth-bible-study/2026-10-28/
LOCATION:FBC Buda\, 104 S. San Marcos St.\, Buda\, TX\, 78610\, United States
END:VEVENT
BEGIN:VEVENT
DTSTART;TZID=America/Chicago:20261028T180000
DTEND;TZID=America/Chicago:20261028T193000
DTSTAMP:20260423T152658
CREATED:20250219T175811Z
LAST-MODIFIED:20251117T161943Z
UID:10005218-1793210400-1793215800@www.firstbaptistbuda.com
SUMMARY:AWANA
DESCRIPTION:
URL:https://www.firstbaptistbuda.com/event/awana/2026-10-28/
LOCATION:FBC Buda\, 104 S. San Marcos St.\, Buda\, TX\, 78610\, United States
END:VEVENT
BEGIN:VEVENT
DTSTART;TZID=America/Chicago:20261028T183000
DTEND;TZID=America/Chicago:20261028T193000
DTSTAMP:20260423T152658
CREATED:20250219T175643Z
LAST-MODIFIED:20251117T162012Z
UID:10004696-1793212200-1793215800@www.firstbaptistbuda.com
SUMMARY:Adult Bible Studay
DESCRIPTION:
URL:https://www.firstbaptistbuda.com/event/adult-bible-studay/2026-10-28/
LOCATION:FBC Buda\, 104 S. San Marcos St.\, Buda\, TX\, 78610\, United States
END:VEVENT
BEGIN:VEVENT
DTSTART;TZID=America/Chicago:20261028T193000
DTEND;TZID=America/Chicago:20261028T203000
DTSTAMP:20260423T152658
CREATED:20250219T175846Z
LAST-MODIFIED:20251117T162041Z
UID:10005479-1793215800-1793219400@www.firstbaptistbuda.com
SUMMARY:Choir Practice
DESCRIPTION:
URL:https://www.firstbaptistbuda.com/event/choir-practice/2026-10-28/
LOCATION:FBC Buda\, 104 S. San Marcos St.\, Buda\, TX\, 78610\, United States
END:VEVENT
BEGIN:VEVENT
DTSTART;TZID=America/Chicago:20261101T093000
DTEND;TZID=America/Chicago:20261101T103000
DTSTAMP:20260423T152658
CREATED:20250219T174938Z
LAST-MODIFIED:20250219T174938Z
UID:10003913-1793525400-1793529000@www.firstbaptistbuda.com
SUMMARY:Sunday School
DESCRIPTION:
URL:https://www.firstbaptistbuda.com/event/sunday-school/2026-11-01/
LOCATION:FBC Buda\, 104 S. San Marcos St.\, Buda\, TX\, 78610\, United States
END:VEVENT
BEGIN:VEVENT
DTSTART;TZID=America/Chicago:20261101T104500
DTEND;TZID=America/Chicago:20261101T114500
DTSTAMP:20260423T152658
CREATED:20250219T175218Z
LAST-MODIFIED:20250219T175218Z
UID:10004174-1793529900-1793533500@www.firstbaptistbuda.com
SUMMARY:Worship and Sermon Service
DESCRIPTION:
URL:https://www.firstbaptistbuda.com/event/worship-and-sermon-service/2026-11-01/
LOCATION:FBC Buda\, 104 S. San Marcos St.\, Buda\, TX\, 78610\, United States
END:VEVENT
BEGIN:VEVENT
DTSTART;TZID=America/Chicago:20261104T180000
DTEND;TZID=America/Chicago:20261104T183000
DTSTAMP:20260423T152658
CREATED:20250219T175558Z
LAST-MODIFIED:20251117T161843Z
UID:10004436-1793815200-1793817000@www.firstbaptistbuda.com
SUMMARY:Prayer Meeting
DESCRIPTION:
URL:https://www.firstbaptistbuda.com/event/prayer-meeting/2026-11-04/
LOCATION:FBC Buda\, 104 S. San Marcos St.\, Buda\, TX\, 78610\, United States
END:VEVENT
BEGIN:VEVENT
DTSTART;TZID=America/Chicago:20261104T180000
DTEND;TZID=America/Chicago:20261104T193000
DTSTAMP:20260423T152658
CREATED:20250219T175721Z
LAST-MODIFIED:20251117T161912Z
UID:10004958-1793815200-1793820600@www.firstbaptistbuda.com
SUMMARY:Youth Bible Study
DESCRIPTION:
URL:https://www.firstbaptistbuda.com/event/youth-bible-study/2026-11-04/
LOCATION:FBC Buda\, 104 S. San Marcos St.\, Buda\, TX\, 78610\, United States
END:VEVENT
BEGIN:VEVENT
DTSTART;TZID=America/Chicago:20261104T180000
DTEND;TZID=America/Chicago:20261104T193000
DTSTAMP:20260423T152658
CREATED:20250219T175811Z
LAST-MODIFIED:20251117T161943Z
UID:10005219-1793815200-1793820600@www.firstbaptistbuda.com
SUMMARY:AWANA
DESCRIPTION:
URL:https://www.firstbaptistbuda.com/event/awana/2026-11-04/
LOCATION:FBC Buda\, 104 S. San Marcos St.\, Buda\, TX\, 78610\, United States
END:VEVENT
BEGIN:VEVENT
DTSTART;TZID=America/Chicago:20261104T183000
DTEND;TZID=America/Chicago:20261104T193000
DTSTAMP:20260423T152658
CREATED:20250219T175643Z
LAST-MODIFIED:20251117T162012Z
UID:10004697-1793817000-1793820600@www.firstbaptistbuda.com
SUMMARY:Adult Bible Studay
DESCRIPTION:
URL:https://www.firstbaptistbuda.com/event/adult-bible-studay/2026-11-04/
LOCATION:FBC Buda\, 104 S. San Marcos St.\, Buda\, TX\, 78610\, United States
END:VEVENT
BEGIN:VEVENT
DTSTART;TZID=America/Chicago:20261104T193000
DTEND;TZID=America/Chicago:20261104T203000
DTSTAMP:20260423T152658
CREATED:20250219T175846Z
LAST-MODIFIED:20251117T162041Z
UID:10005480-1793820600-1793824200@www.firstbaptistbuda.com
SUMMARY:Choir Practice
DESCRIPTION:
URL:https://www.firstbaptistbuda.com/event/choir-practice/2026-11-04/
LOCATION:FBC Buda\, 104 S. San Marcos St.\, Buda\, TX\, 78610\, United States
END:VEVENT
BEGIN:VEVENT
DTSTART;TZID=America/Chicago:20261107T080000
DTEND;TZID=America/Chicago:20261107T090000
DTSTAMP:20260423T152658
CREATED:20250219T180604Z
LAST-MODIFIED:20250219T180604Z
UID:10005672-1794038400-1794042000@www.firstbaptistbuda.com
SUMMARY:Men's Prayer Breakfast
DESCRIPTION:
URL:https://www.firstbaptistbuda.com/event/mens-prayer-breakfast/2026-11-07/
LOCATION:FBC Buda\, 104 S. San Marcos St.\, Buda\, TX\, 78610\, United States
END:VEVENT
BEGIN:VEVENT
DTSTART;TZID=America/Chicago:20261108T093000
DTEND;TZID=America/Chicago:20261108T103000
DTSTAMP:20260423T152658
CREATED:20250219T174938Z
LAST-MODIFIED:20250219T174938Z
UID:10003914-1794130200-1794133800@www.firstbaptistbuda.com
SUMMARY:Sunday School
DESCRIPTION:
URL:https://www.firstbaptistbuda.com/event/sunday-school/2026-11-08/
LOCATION:FBC Buda\, 104 S. San Marcos St.\, Buda\, TX\, 78610\, United States
END:VEVENT
BEGIN:VEVENT
DTSTART;TZID=America/Chicago:20261108T104500
DTEND;TZID=America/Chicago:20261108T114500
DTSTAMP:20260423T152658
CREATED:20250219T175218Z
LAST-MODIFIED:20250219T175218Z
UID:10004175-1794134700-1794138300@www.firstbaptistbuda.com
SUMMARY:Worship and Sermon Service
DESCRIPTION:
URL:https://www.firstbaptistbuda.com/event/worship-and-sermon-service/2026-11-08/
LOCATION:FBC Buda\, 104 S. San Marcos St.\, Buda\, TX\, 78610\, United States
END:VEVENT
BEGIN:VEVENT
DTSTART;TZID=America/Chicago:20261111T180000
DTEND;TZID=America/Chicago:20261111T183000
DTSTAMP:20260423T152658
CREATED:20250219T175558Z
LAST-MODIFIED:20251117T161843Z
UID:10004437-1794420000-1794421800@www.firstbaptistbuda.com
SUMMARY:Prayer Meeting
DESCRIPTION:
URL:https://www.firstbaptistbuda.com/event/prayer-meeting/2026-11-11/
LOCATION:FBC Buda\, 104 S. San Marcos St.\, Buda\, TX\, 78610\, United States
END:VEVENT
BEGIN:VEVENT
DTSTART;TZID=America/Chicago:20261111T180000
DTEND;TZID=America/Chicago:20261111T193000
DTSTAMP:20260423T152658
CREATED:20250219T175721Z
LAST-MODIFIED:20251117T161912Z
UID:10004959-1794420000-1794425400@www.firstbaptistbuda.com
SUMMARY:Youth Bible Study
DESCRIPTION:
URL:https://www.firstbaptistbuda.com/event/youth-bible-study/2026-11-11/
LOCATION:FBC Buda\, 104 S. San Marcos St.\, Buda\, TX\, 78610\, United States
END:VEVENT
BEGIN:VEVENT
DTSTART;TZID=America/Chicago:20261111T180000
DTEND;TZID=America/Chicago:20261111T193000
DTSTAMP:20260423T152658
CREATED:20250219T175811Z
LAST-MODIFIED:20251117T161943Z
UID:10005220-1794420000-1794425400@www.firstbaptistbuda.com
SUMMARY:AWANA
DESCRIPTION:
URL:https://www.firstbaptistbuda.com/event/awana/2026-11-11/
LOCATION:FBC Buda\, 104 S. San Marcos St.\, Buda\, TX\, 78610\, United States
END:VEVENT
BEGIN:VEVENT
DTSTART;TZID=America/Chicago:20261111T183000
DTEND;TZID=America/Chicago:20261111T193000
DTSTAMP:20260423T152658
CREATED:20250219T175643Z
LAST-MODIFIED:20251117T162012Z
UID:10004698-1794421800-1794425400@www.firstbaptistbuda.com
SUMMARY:Adult Bible Studay
DESCRIPTION:
URL:https://www.firstbaptistbuda.com/event/adult-bible-studay/2026-11-11/
LOCATION:FBC Buda\, 104 S. San Marcos St.\, Buda\, TX\, 78610\, United States
END:VEVENT
BEGIN:VEVENT
DTSTART;TZID=America/Chicago:20261111T193000
DTEND;TZID=America/Chicago:20261111T203000
DTSTAMP:20260423T152658
CREATED:20250219T175846Z
LAST-MODIFIED:20251117T162041Z
UID:10005481-1794425400-1794429000@www.firstbaptistbuda.com
SUMMARY:Choir Practice
DESCRIPTION:
URL:https://www.firstbaptistbuda.com/event/choir-practice/2026-11-11/
LOCATION:FBC Buda\, 104 S. San Marcos St.\, Buda\, TX\, 78610\, United States
END:VEVENT
BEGIN:VEVENT
DTSTART;TZID=America/Chicago:20261115T093000
DTEND;TZID=America/Chicago:20261115T103000
DTSTAMP:20260423T152658
CREATED:20250219T174938Z
LAST-MODIFIED:20250219T174938Z
UID:10003915-1794735000-1794738600@www.firstbaptistbuda.com
SUMMARY:Sunday School
DESCRIPTION:
URL:https://www.firstbaptistbuda.com/event/sunday-school/2026-11-15/
LOCATION:FBC Buda\, 104 S. San Marcos St.\, Buda\, TX\, 78610\, United States
END:VEVENT
BEGIN:VEVENT
DTSTART;TZID=America/Chicago:20261115T104500
DTEND;TZID=America/Chicago:20261115T114500
DTSTAMP:20260423T152658
CREATED:20250219T175218Z
LAST-MODIFIED:20250219T175218Z
UID:10004176-1794739500-1794743100@www.firstbaptistbuda.com
SUMMARY:Worship and Sermon Service
DESCRIPTION:
URL:https://www.firstbaptistbuda.com/event/worship-and-sermon-service/2026-11-15/
LOCATION:FBC Buda\, 104 S. San Marcos St.\, Buda\, TX\, 78610\, United States
END:VEVENT
BEGIN:VEVENT
DTSTART;TZID=America/Chicago:20261118T180000
DTEND;TZID=America/Chicago:20261118T183000
DTSTAMP:20260423T152658
CREATED:20250219T175558Z
LAST-MODIFIED:20251117T161843Z
UID:10004438-1795024800-1795026600@www.firstbaptistbuda.com
SUMMARY:Prayer Meeting
DESCRIPTION:
URL:https://www.firstbaptistbuda.com/event/prayer-meeting/2026-11-18/
LOCATION:FBC Buda\, 104 S. San Marcos St.\, Buda\, TX\, 78610\, United States
END:VEVENT
BEGIN:VEVENT
DTSTART;TZID=America/Chicago:20261118T180000
DTEND;TZID=America/Chicago:20261118T193000
DTSTAMP:20260423T152658
CREATED:20250219T175721Z
LAST-MODIFIED:20251117T161912Z
UID:10004960-1795024800-1795030200@www.firstbaptistbuda.com
SUMMARY:Youth Bible Study
DESCRIPTION:
URL:https://www.firstbaptistbuda.com/event/youth-bible-study/2026-11-18/
LOCATION:FBC Buda\, 104 S. San Marcos St.\, Buda\, TX\, 78610\, United States
END:VEVENT
BEGIN:VEVENT
DTSTART;TZID=America/Chicago:20261118T180000
DTEND;TZID=America/Chicago:20261118T193000
DTSTAMP:20260423T152658
CREATED:20250219T175811Z
LAST-MODIFIED:20251117T161943Z
UID:10005221-1795024800-1795030200@www.firstbaptistbuda.com
SUMMARY:AWANA
DESCRIPTION:
URL:https://www.firstbaptistbuda.com/event/awana/2026-11-18/
LOCATION:FBC Buda\, 104 S. San Marcos St.\, Buda\, TX\, 78610\, United States
END:VEVENT
BEGIN:VEVENT
DTSTART;TZID=America/Chicago:20261118T183000
DTEND;TZID=America/Chicago:20261118T193000
DTSTAMP:20260423T152658
CREATED:20250219T175643Z
LAST-MODIFIED:20251117T162012Z
UID:10004699-1795026600-1795030200@www.firstbaptistbuda.com
SUMMARY:Adult Bible Studay
DESCRIPTION:
URL:https://www.firstbaptistbuda.com/event/adult-bible-studay/2026-11-18/
LOCATION:FBC Buda\, 104 S. San Marcos St.\, Buda\, TX\, 78610\, United States
END:VEVENT
BEGIN:VEVENT
DTSTART;TZID=America/Chicago:20261118T193000
DTEND;TZID=America/Chicago:20261118T203000
DTSTAMP:20260423T152658
CREATED:20250219T175846Z
LAST-MODIFIED:20251117T162041Z
UID:10005482-1795030200-1795033800@www.firstbaptistbuda.com
SUMMARY:Choir Practice
DESCRIPTION:
URL:https://www.firstbaptistbuda.com/event/choir-practice/2026-11-18/
LOCATION:FBC Buda\, 104 S. San Marcos St.\, Buda\, TX\, 78610\, United States
END:VEVENT
BEGIN:VEVENT
DTSTART;TZID=America/Chicago:20261122T093000
DTEND;TZID=America/Chicago:20261122T103000
DTSTAMP:20260423T152658
CREATED:20250219T174938Z
LAST-MODIFIED:20250219T174938Z
UID:10003916-1795339800-1795343400@www.firstbaptistbuda.com
SUMMARY:Sunday School
DESCRIPTION:
URL:https://www.firstbaptistbuda.com/event/sunday-school/2026-11-22/
LOCATION:FBC Buda\, 104 S. San Marcos St.\, Buda\, TX\, 78610\, United States
END:VEVENT
BEGIN:VEVENT
DTSTART;TZID=America/Chicago:20261122T104500
DTEND;TZID=America/Chicago:20261122T114500
DTSTAMP:20260423T152658
CREATED:20250219T175218Z
LAST-MODIFIED:20250219T175218Z
UID:10004177-1795344300-1795347900@www.firstbaptistbuda.com
SUMMARY:Worship and Sermon Service
DESCRIPTION:
URL:https://www.firstbaptistbuda.com/event/worship-and-sermon-service/2026-11-22/
LOCATION:FBC Buda\, 104 S. San Marcos St.\, Buda\, TX\, 78610\, United States
END:VEVENT
BEGIN:VEVENT
DTSTART;TZID=America/Chicago:20261125T180000
DTEND;TZID=America/Chicago:20261125T183000
DTSTAMP:20260423T152658
CREATED:20250219T175558Z
LAST-MODIFIED:20251117T161843Z
UID:10004439-1795629600-1795631400@www.firstbaptistbuda.com
SUMMARY:Prayer Meeting
DESCRIPTION:
URL:https://www.firstbaptistbuda.com/event/prayer-meeting/2026-11-25/
LOCATION:FBC Buda\, 104 S. San Marcos St.\, Buda\, TX\, 78610\, United States
END:VEVENT
END:VCALENDAR