BEGIN:VCALENDAR
VERSION:2.0
PRODID:-//First Baptist Church of Buda - ECPv6.15.20//NONSGML v1.0//EN
CALSCALE:GREGORIAN
METHOD:PUBLISH
X-ORIGINAL-URL:https://www.firstbaptistbuda.com
X-WR-CALDESC:Events for First Baptist Church of Buda
REFRESH-INTERVAL;VALUE=DURATION:PT1H
X-Robots-Tag:noindex
X-PUBLISHED-TTL:PT1H
BEGIN:VTIMEZONE
TZID:America/Chicago
BEGIN:DAYLIGHT
TZOFFSETFROM:-0600
TZOFFSETTO:-0500
TZNAME:CDT
DTSTART:20250309T080000
END:DAYLIGHT
BEGIN:STANDARD
TZOFFSETFROM:-0500
TZOFFSETTO:-0600
TZNAME:CST
DTSTART:20251102T070000
END:STANDARD
BEGIN:DAYLIGHT
TZOFFSETFROM:-0600
TZOFFSETTO:-0500
TZNAME:CDT
DTSTART:20260308T080000
END:DAYLIGHT
BEGIN:STANDARD
TZOFFSETFROM:-0500
TZOFFSETTO:-0600
TZNAME:CST
DTSTART:20261101T070000
END:STANDARD
BEGIN:DAYLIGHT
TZOFFSETFROM:-0600
TZOFFSETTO:-0500
TZNAME:CDT
DTSTART:20270314T080000
END:DAYLIGHT
BEGIN:STANDARD
TZOFFSETFROM:-0500
TZOFFSETTO:-0600
TZNAME:CST
DTSTART:20271107T070000
END:STANDARD
END:VTIMEZONE
BEGIN:VEVENT
DTSTART;TZID=America/Chicago:20260916T183000
DTEND;TZID=America/Chicago:20260916T193000
DTSTAMP:20260423T092616
CREATED:20250219T175643Z
LAST-MODIFIED:20251117T162012Z
UID:10004690-1789583400-1789587000@www.firstbaptistbuda.com
SUMMARY:Adult Bible Studay
DESCRIPTION:
URL:https://www.firstbaptistbuda.com/event/adult-bible-studay/2026-09-16/
LOCATION:FBC Buda\, 104 S. San Marcos St.\, Buda\, TX\, 78610\, United States
END:VEVENT
BEGIN:VEVENT
DTSTART;TZID=America/Chicago:20260916T193000
DTEND;TZID=America/Chicago:20260916T203000
DTSTAMP:20260423T092616
CREATED:20250219T175846Z
LAST-MODIFIED:20251117T162041Z
UID:10005473-1789587000-1789590600@www.firstbaptistbuda.com
SUMMARY:Choir Practice
DESCRIPTION:
URL:https://www.firstbaptistbuda.com/event/choir-practice/2026-09-16/
LOCATION:FBC Buda\, 104 S. San Marcos St.\, Buda\, TX\, 78610\, United States
END:VEVENT
BEGIN:VEVENT
DTSTART;TZID=America/Chicago:20260920T093000
DTEND;TZID=America/Chicago:20260920T103000
DTSTAMP:20260423T092616
CREATED:20250219T174938Z
LAST-MODIFIED:20250219T174938Z
UID:10003907-1789896600-1789900200@www.firstbaptistbuda.com
SUMMARY:Sunday School
DESCRIPTION:
URL:https://www.firstbaptistbuda.com/event/sunday-school/2026-09-20/
LOCATION:FBC Buda\, 104 S. San Marcos St.\, Buda\, TX\, 78610\, United States
END:VEVENT
BEGIN:VEVENT
DTSTART;TZID=America/Chicago:20260920T104500
DTEND;TZID=America/Chicago:20260920T114500
DTSTAMP:20260423T092616
CREATED:20250219T175218Z
LAST-MODIFIED:20250219T175218Z
UID:10004168-1789901100-1789904700@www.firstbaptistbuda.com
SUMMARY:Worship and Sermon Service
DESCRIPTION:
URL:https://www.firstbaptistbuda.com/event/worship-and-sermon-service/2026-09-20/
LOCATION:FBC Buda\, 104 S. San Marcos St.\, Buda\, TX\, 78610\, United States
END:VEVENT
BEGIN:VEVENT
DTSTART;TZID=America/Chicago:20260923T180000
DTEND;TZID=America/Chicago:20260923T183000
DTSTAMP:20260423T092616
CREATED:20250219T175558Z
LAST-MODIFIED:20251117T161843Z
UID:10004430-1790186400-1790188200@www.firstbaptistbuda.com
SUMMARY:Prayer Meeting
DESCRIPTION:
URL:https://www.firstbaptistbuda.com/event/prayer-meeting/2026-09-23/
LOCATION:FBC Buda\, 104 S. San Marcos St.\, Buda\, TX\, 78610\, United States
END:VEVENT
BEGIN:VEVENT
DTSTART;TZID=America/Chicago:20260923T180000
DTEND;TZID=America/Chicago:20260923T193000
DTSTAMP:20260423T092616
CREATED:20250219T175721Z
LAST-MODIFIED:20251117T161912Z
UID:10004952-1790186400-1790191800@www.firstbaptistbuda.com
SUMMARY:Youth Bible Study
DESCRIPTION:
URL:https://www.firstbaptistbuda.com/event/youth-bible-study/2026-09-23/
LOCATION:FBC Buda\, 104 S. San Marcos St.\, Buda\, TX\, 78610\, United States
END:VEVENT
BEGIN:VEVENT
DTSTART;TZID=America/Chicago:20260923T180000
DTEND;TZID=America/Chicago:20260923T193000
DTSTAMP:20260423T092616
CREATED:20250219T175811Z
LAST-MODIFIED:20251117T161943Z
UID:10005213-1790186400-1790191800@www.firstbaptistbuda.com
SUMMARY:AWANA
DESCRIPTION:
URL:https://www.firstbaptistbuda.com/event/awana/2026-09-23/
LOCATION:FBC Buda\, 104 S. San Marcos St.\, Buda\, TX\, 78610\, United States
END:VEVENT
BEGIN:VEVENT
DTSTART;TZID=America/Chicago:20260923T183000
DTEND;TZID=America/Chicago:20260923T193000
DTSTAMP:20260423T092616
CREATED:20250219T175643Z
LAST-MODIFIED:20251117T162012Z
UID:10004691-1790188200-1790191800@www.firstbaptistbuda.com
SUMMARY:Adult Bible Studay
DESCRIPTION:
URL:https://www.firstbaptistbuda.com/event/adult-bible-studay/2026-09-23/
LOCATION:FBC Buda\, 104 S. San Marcos St.\, Buda\, TX\, 78610\, United States
END:VEVENT
BEGIN:VEVENT
DTSTART;TZID=America/Chicago:20260923T193000
DTEND;TZID=America/Chicago:20260923T203000
DTSTAMP:20260423T092616
CREATED:20250219T175846Z
LAST-MODIFIED:20251117T162041Z
UID:10005474-1790191800-1790195400@www.firstbaptistbuda.com
SUMMARY:Choir Practice
DESCRIPTION:
URL:https://www.firstbaptistbuda.com/event/choir-practice/2026-09-23/
LOCATION:FBC Buda\, 104 S. San Marcos St.\, Buda\, TX\, 78610\, United States
END:VEVENT
BEGIN:VEVENT
DTSTART;TZID=America/Chicago:20260927T093000
DTEND;TZID=America/Chicago:20260927T103000
DTSTAMP:20260423T092616
CREATED:20250219T174938Z
LAST-MODIFIED:20250219T174938Z
UID:10003908-1790501400-1790505000@www.firstbaptistbuda.com
SUMMARY:Sunday School
DESCRIPTION:
URL:https://www.firstbaptistbuda.com/event/sunday-school/2026-09-27/
LOCATION:FBC Buda\, 104 S. San Marcos St.\, Buda\, TX\, 78610\, United States
END:VEVENT
BEGIN:VEVENT
DTSTART;TZID=America/Chicago:20260927T104500
DTEND;TZID=America/Chicago:20260927T114500
DTSTAMP:20260423T092616
CREATED:20250219T175218Z
LAST-MODIFIED:20250219T175218Z
UID:10004169-1790505900-1790509500@www.firstbaptistbuda.com
SUMMARY:Worship and Sermon Service
DESCRIPTION:
URL:https://www.firstbaptistbuda.com/event/worship-and-sermon-service/2026-09-27/
LOCATION:FBC Buda\, 104 S. San Marcos St.\, Buda\, TX\, 78610\, United States
END:VEVENT
BEGIN:VEVENT
DTSTART;TZID=America/Chicago:20260930T180000
DTEND;TZID=America/Chicago:20260930T183000
DTSTAMP:20260423T092616
CREATED:20250219T175558Z
LAST-MODIFIED:20251117T161843Z
UID:10004431-1790791200-1790793000@www.firstbaptistbuda.com
SUMMARY:Prayer Meeting
DESCRIPTION:
URL:https://www.firstbaptistbuda.com/event/prayer-meeting/2026-09-30/
LOCATION:FBC Buda\, 104 S. San Marcos St.\, Buda\, TX\, 78610\, United States
END:VEVENT
BEGIN:VEVENT
DTSTART;TZID=America/Chicago:20260930T180000
DTEND;TZID=America/Chicago:20260930T193000
DTSTAMP:20260423T092616
CREATED:20250219T175721Z
LAST-MODIFIED:20251117T161912Z
UID:10004953-1790791200-1790796600@www.firstbaptistbuda.com
SUMMARY:Youth Bible Study
DESCRIPTION:
URL:https://www.firstbaptistbuda.com/event/youth-bible-study/2026-09-30/
LOCATION:FBC Buda\, 104 S. San Marcos St.\, Buda\, TX\, 78610\, United States
END:VEVENT
BEGIN:VEVENT
DTSTART;TZID=America/Chicago:20260930T180000
DTEND;TZID=America/Chicago:20260930T193000
DTSTAMP:20260423T092616
CREATED:20250219T175811Z
LAST-MODIFIED:20251117T161943Z
UID:10005214-1790791200-1790796600@www.firstbaptistbuda.com
SUMMARY:AWANA
DESCRIPTION:
URL:https://www.firstbaptistbuda.com/event/awana/2026-09-30/
LOCATION:FBC Buda\, 104 S. San Marcos St.\, Buda\, TX\, 78610\, United States
END:VEVENT
BEGIN:VEVENT
DTSTART;TZID=America/Chicago:20260930T183000
DTEND;TZID=America/Chicago:20260930T193000
DTSTAMP:20260423T092616
CREATED:20250219T175643Z
LAST-MODIFIED:20251117T162012Z
UID:10004692-1790793000-1790796600@www.firstbaptistbuda.com
SUMMARY:Adult Bible Studay
DESCRIPTION:
URL:https://www.firstbaptistbuda.com/event/adult-bible-studay/2026-09-30/
LOCATION:FBC Buda\, 104 S. San Marcos St.\, Buda\, TX\, 78610\, United States
END:VEVENT
BEGIN:VEVENT
DTSTART;TZID=America/Chicago:20260930T193000
DTEND;TZID=America/Chicago:20260930T203000
DTSTAMP:20260423T092616
CREATED:20250219T175846Z
LAST-MODIFIED:20251117T162041Z
UID:10005475-1790796600-1790800200@www.firstbaptistbuda.com
SUMMARY:Choir Practice
DESCRIPTION:
URL:https://www.firstbaptistbuda.com/event/choir-practice/2026-09-30/
LOCATION:FBC Buda\, 104 S. San Marcos St.\, Buda\, TX\, 78610\, United States
END:VEVENT
BEGIN:VEVENT
DTSTART;TZID=America/Chicago:20261003T080000
DTEND;TZID=America/Chicago:20261003T090000
DTSTAMP:20260423T092616
CREATED:20250219T180604Z
LAST-MODIFIED:20250219T180604Z
UID:10005671-1791014400-1791018000@www.firstbaptistbuda.com
SUMMARY:Men's Prayer Breakfast
DESCRIPTION:
URL:https://www.firstbaptistbuda.com/event/mens-prayer-breakfast/2026-10-03/
LOCATION:FBC Buda\, 104 S. San Marcos St.\, Buda\, TX\, 78610\, United States
END:VEVENT
BEGIN:VEVENT
DTSTART;TZID=America/Chicago:20261004T093000
DTEND;TZID=America/Chicago:20261004T103000
DTSTAMP:20260423T092616
CREATED:20250219T174938Z
LAST-MODIFIED:20250219T174938Z
UID:10003909-1791106200-1791109800@www.firstbaptistbuda.com
SUMMARY:Sunday School
DESCRIPTION:
URL:https://www.firstbaptistbuda.com/event/sunday-school/2026-10-04/
LOCATION:FBC Buda\, 104 S. San Marcos St.\, Buda\, TX\, 78610\, United States
END:VEVENT
BEGIN:VEVENT
DTSTART;TZID=America/Chicago:20261004T104500
DTEND;TZID=America/Chicago:20261004T114500
DTSTAMP:20260423T092616
CREATED:20250219T175218Z
LAST-MODIFIED:20250219T175218Z
UID:10004170-1791110700-1791114300@www.firstbaptistbuda.com
SUMMARY:Worship and Sermon Service
DESCRIPTION:
URL:https://www.firstbaptistbuda.com/event/worship-and-sermon-service/2026-10-04/
LOCATION:FBC Buda\, 104 S. San Marcos St.\, Buda\, TX\, 78610\, United States
END:VEVENT
BEGIN:VEVENT
DTSTART;TZID=America/Chicago:20261007T180000
DTEND;TZID=America/Chicago:20261007T183000
DTSTAMP:20260423T092616
CREATED:20250219T175558Z
LAST-MODIFIED:20251117T161843Z
UID:10004432-1791396000-1791397800@www.firstbaptistbuda.com
SUMMARY:Prayer Meeting
DESCRIPTION:
URL:https://www.firstbaptistbuda.com/event/prayer-meeting/2026-10-07/
LOCATION:FBC Buda\, 104 S. San Marcos St.\, Buda\, TX\, 78610\, United States
END:VEVENT
BEGIN:VEVENT
DTSTART;TZID=America/Chicago:20261007T180000
DTEND;TZID=America/Chicago:20261007T193000
DTSTAMP:20260423T092616
CREATED:20250219T175721Z
LAST-MODIFIED:20251117T161912Z
UID:10004954-1791396000-1791401400@www.firstbaptistbuda.com
SUMMARY:Youth Bible Study
DESCRIPTION:
URL:https://www.firstbaptistbuda.com/event/youth-bible-study/2026-10-07/
LOCATION:FBC Buda\, 104 S. San Marcos St.\, Buda\, TX\, 78610\, United States
END:VEVENT
BEGIN:VEVENT
DTSTART;TZID=America/Chicago:20261007T180000
DTEND;TZID=America/Chicago:20261007T193000
DTSTAMP:20260423T092616
CREATED:20250219T175811Z
LAST-MODIFIED:20251117T161943Z
UID:10005215-1791396000-1791401400@www.firstbaptistbuda.com
SUMMARY:AWANA
DESCRIPTION:
URL:https://www.firstbaptistbuda.com/event/awana/2026-10-07/
LOCATION:FBC Buda\, 104 S. San Marcos St.\, Buda\, TX\, 78610\, United States
END:VEVENT
BEGIN:VEVENT
DTSTART;TZID=America/Chicago:20261007T183000
DTEND;TZID=America/Chicago:20261007T193000
DTSTAMP:20260423T092616
CREATED:20250219T175643Z
LAST-MODIFIED:20251117T162012Z
UID:10004693-1791397800-1791401400@www.firstbaptistbuda.com
SUMMARY:Adult Bible Studay
DESCRIPTION:
URL:https://www.firstbaptistbuda.com/event/adult-bible-studay/2026-10-07/
LOCATION:FBC Buda\, 104 S. San Marcos St.\, Buda\, TX\, 78610\, United States
END:VEVENT
BEGIN:VEVENT
DTSTART;TZID=America/Chicago:20261007T193000
DTEND;TZID=America/Chicago:20261007T203000
DTSTAMP:20260423T092616
CREATED:20250219T175846Z
LAST-MODIFIED:20251117T162041Z
UID:10005476-1791401400-1791405000@www.firstbaptistbuda.com
SUMMARY:Choir Practice
DESCRIPTION:
URL:https://www.firstbaptistbuda.com/event/choir-practice/2026-10-07/
LOCATION:FBC Buda\, 104 S. San Marcos St.\, Buda\, TX\, 78610\, United States
END:VEVENT
BEGIN:VEVENT
DTSTART;TZID=America/Chicago:20261011T093000
DTEND;TZID=America/Chicago:20261011T103000
DTSTAMP:20260423T092616
CREATED:20250219T174938Z
LAST-MODIFIED:20250219T174938Z
UID:10003910-1791711000-1791714600@www.firstbaptistbuda.com
SUMMARY:Sunday School
DESCRIPTION:
URL:https://www.firstbaptistbuda.com/event/sunday-school/2026-10-11/
LOCATION:FBC Buda\, 104 S. San Marcos St.\, Buda\, TX\, 78610\, United States
END:VEVENT
BEGIN:VEVENT
DTSTART;TZID=America/Chicago:20261011T104500
DTEND;TZID=America/Chicago:20261011T114500
DTSTAMP:20260423T092616
CREATED:20250219T175218Z
LAST-MODIFIED:20250219T175218Z
UID:10004171-1791715500-1791719100@www.firstbaptistbuda.com
SUMMARY:Worship and Sermon Service
DESCRIPTION:
URL:https://www.firstbaptistbuda.com/event/worship-and-sermon-service/2026-10-11/
LOCATION:FBC Buda\, 104 S. San Marcos St.\, Buda\, TX\, 78610\, United States
END:VEVENT
BEGIN:VEVENT
DTSTART;TZID=America/Chicago:20261014T180000
DTEND;TZID=America/Chicago:20261014T183000
DTSTAMP:20260423T092616
CREATED:20250219T175558Z
LAST-MODIFIED:20251117T161843Z
UID:10004433-1792000800-1792002600@www.firstbaptistbuda.com
SUMMARY:Prayer Meeting
DESCRIPTION:
URL:https://www.firstbaptistbuda.com/event/prayer-meeting/2026-10-14/
LOCATION:FBC Buda\, 104 S. San Marcos St.\, Buda\, TX\, 78610\, United States
END:VEVENT
BEGIN:VEVENT
DTSTART;TZID=America/Chicago:20261014T180000
DTEND;TZID=America/Chicago:20261014T193000
DTSTAMP:20260423T092616
CREATED:20250219T175721Z
LAST-MODIFIED:20251117T161912Z
UID:10004955-1792000800-1792006200@www.firstbaptistbuda.com
SUMMARY:Youth Bible Study
DESCRIPTION:
URL:https://www.firstbaptistbuda.com/event/youth-bible-study/2026-10-14/
LOCATION:FBC Buda\, 104 S. San Marcos St.\, Buda\, TX\, 78610\, United States
END:VEVENT
BEGIN:VEVENT
DTSTART;TZID=America/Chicago:20261014T180000
DTEND;TZID=America/Chicago:20261014T193000
DTSTAMP:20260423T092616
CREATED:20250219T175811Z
LAST-MODIFIED:20251117T161943Z
UID:10005216-1792000800-1792006200@www.firstbaptistbuda.com
SUMMARY:AWANA
DESCRIPTION:
URL:https://www.firstbaptistbuda.com/event/awana/2026-10-14/
LOCATION:FBC Buda\, 104 S. San Marcos St.\, Buda\, TX\, 78610\, United States
END:VEVENT
BEGIN:VEVENT
DTSTART;TZID=America/Chicago:20261014T183000
DTEND;TZID=America/Chicago:20261014T193000
DTSTAMP:20260423T092616
CREATED:20250219T175643Z
LAST-MODIFIED:20251117T162012Z
UID:10004694-1792002600-1792006200@www.firstbaptistbuda.com
SUMMARY:Adult Bible Studay
DESCRIPTION:
URL:https://www.firstbaptistbuda.com/event/adult-bible-studay/2026-10-14/
LOCATION:FBC Buda\, 104 S. San Marcos St.\, Buda\, TX\, 78610\, United States
END:VEVENT
END:VCALENDAR