BEGIN:VCALENDAR
VERSION:2.0
PRODID:-//First Baptist Church of Buda - ECPv6.15.20//NONSGML v1.0//EN
CALSCALE:GREGORIAN
METHOD:PUBLISH
X-WR-CALNAME:First Baptist Church of Buda
X-ORIGINAL-URL:https://www.firstbaptistbuda.com
X-WR-CALDESC:Events for First Baptist Church of Buda
REFRESH-INTERVAL;VALUE=DURATION:PT1H
X-Robots-Tag:noindex
X-PUBLISHED-TTL:PT1H
BEGIN:VTIMEZONE
TZID:America/Chicago
BEGIN:DAYLIGHT
TZOFFSETFROM:-0600
TZOFFSETTO:-0500
TZNAME:CDT
DTSTART:20250309T080000
END:DAYLIGHT
BEGIN:STANDARD
TZOFFSETFROM:-0500
TZOFFSETTO:-0600
TZNAME:CST
DTSTART:20251102T070000
END:STANDARD
BEGIN:DAYLIGHT
TZOFFSETFROM:-0600
TZOFFSETTO:-0500
TZNAME:CDT
DTSTART:20260308T080000
END:DAYLIGHT
BEGIN:STANDARD
TZOFFSETFROM:-0500
TZOFFSETTO:-0600
TZNAME:CST
DTSTART:20261101T070000
END:STANDARD
BEGIN:DAYLIGHT
TZOFFSETFROM:-0600
TZOFFSETTO:-0500
TZNAME:CDT
DTSTART:20270314T080000
END:DAYLIGHT
BEGIN:STANDARD
TZOFFSETFROM:-0500
TZOFFSETTO:-0600
TZNAME:CST
DTSTART:20271107T070000
END:STANDARD
END:VTIMEZONE
BEGIN:VEVENT
DTSTART;TZID=America/Chicago:20260729T193000
DTEND;TZID=America/Chicago:20260729T203000
DTSTAMP:20260423T021407
CREATED:20250219T175846Z
LAST-MODIFIED:20251117T162041Z
UID:10005466-1785353400-1785357000@www.firstbaptistbuda.com
SUMMARY:Choir Practice
DESCRIPTION:
URL:https://www.firstbaptistbuda.com/event/choir-practice/2026-07-29/
LOCATION:FBC Buda\, 104 S. San Marcos St.\, Buda\, TX\, 78610\, United States
END:VEVENT
BEGIN:VEVENT
DTSTART;TZID=America/Chicago:20260801T080000
DTEND;TZID=America/Chicago:20260801T090000
DTSTAMP:20260423T021407
CREATED:20250219T180604Z
LAST-MODIFIED:20250219T180604Z
UID:10005669-1785571200-1785574800@www.firstbaptistbuda.com
SUMMARY:Men's Prayer Breakfast
DESCRIPTION:
URL:https://www.firstbaptistbuda.com/event/mens-prayer-breakfast/2026-08-01/
LOCATION:FBC Buda\, 104 S. San Marcos St.\, Buda\, TX\, 78610\, United States
END:VEVENT
BEGIN:VEVENT
DTSTART;TZID=America/Chicago:20260802T093000
DTEND;TZID=America/Chicago:20260802T103000
DTSTAMP:20260423T021407
CREATED:20250219T174938Z
LAST-MODIFIED:20250219T174938Z
UID:10003900-1785663000-1785666600@www.firstbaptistbuda.com
SUMMARY:Sunday School
DESCRIPTION:
URL:https://www.firstbaptistbuda.com/event/sunday-school/2026-08-02/
LOCATION:FBC Buda\, 104 S. San Marcos St.\, Buda\, TX\, 78610\, United States
END:VEVENT
BEGIN:VEVENT
DTSTART;TZID=America/Chicago:20260802T104500
DTEND;TZID=America/Chicago:20260802T114500
DTSTAMP:20260423T021407
CREATED:20250219T175218Z
LAST-MODIFIED:20250219T175218Z
UID:10004161-1785667500-1785671100@www.firstbaptistbuda.com
SUMMARY:Worship and Sermon Service
DESCRIPTION:
URL:https://www.firstbaptistbuda.com/event/worship-and-sermon-service/2026-08-02/
LOCATION:FBC Buda\, 104 S. San Marcos St.\, Buda\, TX\, 78610\, United States
END:VEVENT
BEGIN:VEVENT
DTSTART;TZID=America/Chicago:20260805T180000
DTEND;TZID=America/Chicago:20260805T183000
DTSTAMP:20260423T021407
CREATED:20250219T175558Z
LAST-MODIFIED:20251117T161843Z
UID:10004423-1785952800-1785954600@www.firstbaptistbuda.com
SUMMARY:Prayer Meeting
DESCRIPTION:
URL:https://www.firstbaptistbuda.com/event/prayer-meeting/2026-08-05/
LOCATION:FBC Buda\, 104 S. San Marcos St.\, Buda\, TX\, 78610\, United States
END:VEVENT
BEGIN:VEVENT
DTSTART;TZID=America/Chicago:20260805T180000
DTEND;TZID=America/Chicago:20260805T193000
DTSTAMP:20260423T021407
CREATED:20250219T175721Z
LAST-MODIFIED:20251117T161912Z
UID:10004945-1785952800-1785958200@www.firstbaptistbuda.com
SUMMARY:Youth Bible Study
DESCRIPTION:
URL:https://www.firstbaptistbuda.com/event/youth-bible-study/2026-08-05/
LOCATION:FBC Buda\, 104 S. San Marcos St.\, Buda\, TX\, 78610\, United States
END:VEVENT
BEGIN:VEVENT
DTSTART;TZID=America/Chicago:20260805T180000
DTEND;TZID=America/Chicago:20260805T193000
DTSTAMP:20260423T021407
CREATED:20250219T175811Z
LAST-MODIFIED:20251117T161943Z
UID:10005206-1785952800-1785958200@www.firstbaptistbuda.com
SUMMARY:AWANA
DESCRIPTION:
URL:https://www.firstbaptistbuda.com/event/awana/2026-08-05/
LOCATION:FBC Buda\, 104 S. San Marcos St.\, Buda\, TX\, 78610\, United States
END:VEVENT
BEGIN:VEVENT
DTSTART;TZID=America/Chicago:20260805T183000
DTEND;TZID=America/Chicago:20260805T193000
DTSTAMP:20260423T021407
CREATED:20250219T175643Z
LAST-MODIFIED:20251117T162012Z
UID:10004684-1785954600-1785958200@www.firstbaptistbuda.com
SUMMARY:Adult Bible Studay
DESCRIPTION:
URL:https://www.firstbaptistbuda.com/event/adult-bible-studay/2026-08-05/
LOCATION:FBC Buda\, 104 S. San Marcos St.\, Buda\, TX\, 78610\, United States
END:VEVENT
BEGIN:VEVENT
DTSTART;TZID=America/Chicago:20260805T193000
DTEND;TZID=America/Chicago:20260805T203000
DTSTAMP:20260423T021407
CREATED:20250219T175846Z
LAST-MODIFIED:20251117T162041Z
UID:10005467-1785958200-1785961800@www.firstbaptistbuda.com
SUMMARY:Choir Practice
DESCRIPTION:
URL:https://www.firstbaptistbuda.com/event/choir-practice/2026-08-05/
LOCATION:FBC Buda\, 104 S. San Marcos St.\, Buda\, TX\, 78610\, United States
END:VEVENT
BEGIN:VEVENT
DTSTART;TZID=America/Chicago:20260809T093000
DTEND;TZID=America/Chicago:20260809T103000
DTSTAMP:20260423T021407
CREATED:20250219T174938Z
LAST-MODIFIED:20250219T174938Z
UID:10003901-1786267800-1786271400@www.firstbaptistbuda.com
SUMMARY:Sunday School
DESCRIPTION:
URL:https://www.firstbaptistbuda.com/event/sunday-school/2026-08-09/
LOCATION:FBC Buda\, 104 S. San Marcos St.\, Buda\, TX\, 78610\, United States
END:VEVENT
BEGIN:VEVENT
DTSTART;TZID=America/Chicago:20260809T104500
DTEND;TZID=America/Chicago:20260809T114500
DTSTAMP:20260423T021407
CREATED:20250219T175218Z
LAST-MODIFIED:20250219T175218Z
UID:10004162-1786272300-1786275900@www.firstbaptistbuda.com
SUMMARY:Worship and Sermon Service
DESCRIPTION:
URL:https://www.firstbaptistbuda.com/event/worship-and-sermon-service/2026-08-09/
LOCATION:FBC Buda\, 104 S. San Marcos St.\, Buda\, TX\, 78610\, United States
END:VEVENT
BEGIN:VEVENT
DTSTART;TZID=America/Chicago:20260812T180000
DTEND;TZID=America/Chicago:20260812T183000
DTSTAMP:20260423T021407
CREATED:20250219T175558Z
LAST-MODIFIED:20251117T161843Z
UID:10004424-1786557600-1786559400@www.firstbaptistbuda.com
SUMMARY:Prayer Meeting
DESCRIPTION:
URL:https://www.firstbaptistbuda.com/event/prayer-meeting/2026-08-12/
LOCATION:FBC Buda\, 104 S. San Marcos St.\, Buda\, TX\, 78610\, United States
END:VEVENT
BEGIN:VEVENT
DTSTART;TZID=America/Chicago:20260812T180000
DTEND;TZID=America/Chicago:20260812T193000
DTSTAMP:20260423T021407
CREATED:20250219T175721Z
LAST-MODIFIED:20251117T161912Z
UID:10004946-1786557600-1786563000@www.firstbaptistbuda.com
SUMMARY:Youth Bible Study
DESCRIPTION:
URL:https://www.firstbaptistbuda.com/event/youth-bible-study/2026-08-12/
LOCATION:FBC Buda\, 104 S. San Marcos St.\, Buda\, TX\, 78610\, United States
END:VEVENT
BEGIN:VEVENT
DTSTART;TZID=America/Chicago:20260812T180000
DTEND;TZID=America/Chicago:20260812T193000
DTSTAMP:20260423T021407
CREATED:20250219T175811Z
LAST-MODIFIED:20251117T161943Z
UID:10005207-1786557600-1786563000@www.firstbaptistbuda.com
SUMMARY:AWANA
DESCRIPTION:
URL:https://www.firstbaptistbuda.com/event/awana/2026-08-12/
LOCATION:FBC Buda\, 104 S. San Marcos St.\, Buda\, TX\, 78610\, United States
END:VEVENT
BEGIN:VEVENT
DTSTART;TZID=America/Chicago:20260812T183000
DTEND;TZID=America/Chicago:20260812T193000
DTSTAMP:20260423T021407
CREATED:20250219T175643Z
LAST-MODIFIED:20251117T162012Z
UID:10004685-1786559400-1786563000@www.firstbaptistbuda.com
SUMMARY:Adult Bible Studay
DESCRIPTION:
URL:https://www.firstbaptistbuda.com/event/adult-bible-studay/2026-08-12/
LOCATION:FBC Buda\, 104 S. San Marcos St.\, Buda\, TX\, 78610\, United States
END:VEVENT
BEGIN:VEVENT
DTSTART;TZID=America/Chicago:20260812T193000
DTEND;TZID=America/Chicago:20260812T203000
DTSTAMP:20260423T021407
CREATED:20250219T175846Z
LAST-MODIFIED:20251117T162041Z
UID:10005468-1786563000-1786566600@www.firstbaptistbuda.com
SUMMARY:Choir Practice
DESCRIPTION:
URL:https://www.firstbaptistbuda.com/event/choir-practice/2026-08-12/
LOCATION:FBC Buda\, 104 S. San Marcos St.\, Buda\, TX\, 78610\, United States
END:VEVENT
BEGIN:VEVENT
DTSTART;TZID=America/Chicago:20260816T093000
DTEND;TZID=America/Chicago:20260816T103000
DTSTAMP:20260423T021407
CREATED:20250219T174938Z
LAST-MODIFIED:20250219T174938Z
UID:10003902-1786872600-1786876200@www.firstbaptistbuda.com
SUMMARY:Sunday School
DESCRIPTION:
URL:https://www.firstbaptistbuda.com/event/sunday-school/2026-08-16/
LOCATION:FBC Buda\, 104 S. San Marcos St.\, Buda\, TX\, 78610\, United States
END:VEVENT
BEGIN:VEVENT
DTSTART;TZID=America/Chicago:20260816T104500
DTEND;TZID=America/Chicago:20260816T114500
DTSTAMP:20260423T021407
CREATED:20250219T175218Z
LAST-MODIFIED:20250219T175218Z
UID:10004163-1786877100-1786880700@www.firstbaptistbuda.com
SUMMARY:Worship and Sermon Service
DESCRIPTION:
URL:https://www.firstbaptistbuda.com/event/worship-and-sermon-service/2026-08-16/
LOCATION:FBC Buda\, 104 S. San Marcos St.\, Buda\, TX\, 78610\, United States
END:VEVENT
BEGIN:VEVENT
DTSTART;TZID=America/Chicago:20260819T180000
DTEND;TZID=America/Chicago:20260819T183000
DTSTAMP:20260423T021407
CREATED:20250219T175558Z
LAST-MODIFIED:20251117T161843Z
UID:10004425-1787162400-1787164200@www.firstbaptistbuda.com
SUMMARY:Prayer Meeting
DESCRIPTION:
URL:https://www.firstbaptistbuda.com/event/prayer-meeting/2026-08-19/
LOCATION:FBC Buda\, 104 S. San Marcos St.\, Buda\, TX\, 78610\, United States
END:VEVENT
BEGIN:VEVENT
DTSTART;TZID=America/Chicago:20260819T180000
DTEND;TZID=America/Chicago:20260819T193000
DTSTAMP:20260423T021407
CREATED:20250219T175721Z
LAST-MODIFIED:20251117T161912Z
UID:10004947-1787162400-1787167800@www.firstbaptistbuda.com
SUMMARY:Youth Bible Study
DESCRIPTION:
URL:https://www.firstbaptistbuda.com/event/youth-bible-study/2026-08-19/
LOCATION:FBC Buda\, 104 S. San Marcos St.\, Buda\, TX\, 78610\, United States
END:VEVENT
BEGIN:VEVENT
DTSTART;TZID=America/Chicago:20260819T180000
DTEND;TZID=America/Chicago:20260819T193000
DTSTAMP:20260423T021407
CREATED:20250219T175811Z
LAST-MODIFIED:20251117T161943Z
UID:10005208-1787162400-1787167800@www.firstbaptistbuda.com
SUMMARY:AWANA
DESCRIPTION:
URL:https://www.firstbaptistbuda.com/event/awana/2026-08-19/
LOCATION:FBC Buda\, 104 S. San Marcos St.\, Buda\, TX\, 78610\, United States
END:VEVENT
BEGIN:VEVENT
DTSTART;TZID=America/Chicago:20260819T183000
DTEND;TZID=America/Chicago:20260819T193000
DTSTAMP:20260423T021407
CREATED:20250219T175643Z
LAST-MODIFIED:20251117T162012Z
UID:10004686-1787164200-1787167800@www.firstbaptistbuda.com
SUMMARY:Adult Bible Studay
DESCRIPTION:
URL:https://www.firstbaptistbuda.com/event/adult-bible-studay/2026-08-19/
LOCATION:FBC Buda\, 104 S. San Marcos St.\, Buda\, TX\, 78610\, United States
END:VEVENT
BEGIN:VEVENT
DTSTART;TZID=America/Chicago:20260819T193000
DTEND;TZID=America/Chicago:20260819T203000
DTSTAMP:20260423T021407
CREATED:20250219T175846Z
LAST-MODIFIED:20251117T162041Z
UID:10005469-1787167800-1787171400@www.firstbaptistbuda.com
SUMMARY:Choir Practice
DESCRIPTION:
URL:https://www.firstbaptistbuda.com/event/choir-practice/2026-08-19/
LOCATION:FBC Buda\, 104 S. San Marcos St.\, Buda\, TX\, 78610\, United States
END:VEVENT
BEGIN:VEVENT
DTSTART;TZID=America/Chicago:20260823T093000
DTEND;TZID=America/Chicago:20260823T103000
DTSTAMP:20260423T021407
CREATED:20250219T174938Z
LAST-MODIFIED:20250219T174938Z
UID:10003903-1787477400-1787481000@www.firstbaptistbuda.com
SUMMARY:Sunday School
DESCRIPTION:
URL:https://www.firstbaptistbuda.com/event/sunday-school/2026-08-23/
LOCATION:FBC Buda\, 104 S. San Marcos St.\, Buda\, TX\, 78610\, United States
END:VEVENT
BEGIN:VEVENT
DTSTART;TZID=America/Chicago:20260823T104500
DTEND;TZID=America/Chicago:20260823T114500
DTSTAMP:20260423T021407
CREATED:20250219T175218Z
LAST-MODIFIED:20250219T175218Z
UID:10004164-1787481900-1787485500@www.firstbaptistbuda.com
SUMMARY:Worship and Sermon Service
DESCRIPTION:
URL:https://www.firstbaptistbuda.com/event/worship-and-sermon-service/2026-08-23/
LOCATION:FBC Buda\, 104 S. San Marcos St.\, Buda\, TX\, 78610\, United States
END:VEVENT
BEGIN:VEVENT
DTSTART;TZID=America/Chicago:20260826T180000
DTEND;TZID=America/Chicago:20260826T183000
DTSTAMP:20260423T021407
CREATED:20250219T175558Z
LAST-MODIFIED:20251117T161843Z
UID:10004426-1787767200-1787769000@www.firstbaptistbuda.com
SUMMARY:Prayer Meeting
DESCRIPTION:
URL:https://www.firstbaptistbuda.com/event/prayer-meeting/2026-08-26/
LOCATION:FBC Buda\, 104 S. San Marcos St.\, Buda\, TX\, 78610\, United States
END:VEVENT
BEGIN:VEVENT
DTSTART;TZID=America/Chicago:20260826T180000
DTEND;TZID=America/Chicago:20260826T193000
DTSTAMP:20260423T021407
CREATED:20250219T175721Z
LAST-MODIFIED:20251117T161912Z
UID:10004948-1787767200-1787772600@www.firstbaptistbuda.com
SUMMARY:Youth Bible Study
DESCRIPTION:
URL:https://www.firstbaptistbuda.com/event/youth-bible-study/2026-08-26/
LOCATION:FBC Buda\, 104 S. San Marcos St.\, Buda\, TX\, 78610\, United States
END:VEVENT
BEGIN:VEVENT
DTSTART;TZID=America/Chicago:20260826T180000
DTEND;TZID=America/Chicago:20260826T193000
DTSTAMP:20260423T021407
CREATED:20250219T175811Z
LAST-MODIFIED:20251117T161943Z
UID:10005209-1787767200-1787772600@www.firstbaptistbuda.com
SUMMARY:AWANA
DESCRIPTION:
URL:https://www.firstbaptistbuda.com/event/awana/2026-08-26/
LOCATION:FBC Buda\, 104 S. San Marcos St.\, Buda\, TX\, 78610\, United States
END:VEVENT
BEGIN:VEVENT
DTSTART;TZID=America/Chicago:20260826T183000
DTEND;TZID=America/Chicago:20260826T193000
DTSTAMP:20260423T021407
CREATED:20250219T175643Z
LAST-MODIFIED:20251117T162012Z
UID:10004687-1787769000-1787772600@www.firstbaptistbuda.com
SUMMARY:Adult Bible Studay
DESCRIPTION:
URL:https://www.firstbaptistbuda.com/event/adult-bible-studay/2026-08-26/
LOCATION:FBC Buda\, 104 S. San Marcos St.\, Buda\, TX\, 78610\, United States
END:VEVENT
BEGIN:VEVENT
DTSTART;TZID=America/Chicago:20260826T193000
DTEND;TZID=America/Chicago:20260826T203000
DTSTAMP:20260423T021407
CREATED:20250219T175846Z
LAST-MODIFIED:20251117T162041Z
UID:10005470-1787772600-1787776200@www.firstbaptistbuda.com
SUMMARY:Choir Practice
DESCRIPTION:
URL:https://www.firstbaptistbuda.com/event/choir-practice/2026-08-26/
LOCATION:FBC Buda\, 104 S. San Marcos St.\, Buda\, TX\, 78610\, United States
END:VEVENT
END:VCALENDAR